BEGIN:VCALENDAR
VERSION:2.0
PRODID:-//wp-events-plugin.com//6.5.2.2//EN
TZID:Asia/Kolkata
X-WR-TIMEZONE:Asia/Kolkata
BEGIN:VEVENT
UID:99@hamsadhwani.net
DTSTART:20231225T170000Z
DTEND:20231225T170000Z
DTSTAMP:20231215T010334Z
URL:https://www.hamsadhwani.net/events/function-25-12-2023/
SUMMARY:Function 25/12/2023
DESCRIPTION:DIYA GODAVARTI (USA) - Vocal\nVishal Sowmyan (USA) - Violin\nVi
 neeth Godavarti (USA) - Mrudangam
ATTACH;FMTTYPE=image/jpeg:https://www.hamsadhwani.net/wp-content/uploads/2
 023/12/wp4135529-sitar-wallpapers.jpg
CATEGORIES:NRI Events,Upcoming events
END:VEVENT
END:VCALENDAR