BEGIN:VCALENDAR
VERSION:2.0
PRODID:-//wp-events-plugin.com//6.5.2.2//EN
TZID:Asia/Kolkata
X-WR-TIMEZONE:Asia/Kolkata
BEGIN:VEVENT
UID:258@hamsadhwani.net
DTSTART:20260125T000000Z
DTEND:20260125T000000Z
DTSTAMP:20260116T172451Z
URL:https://www.hamsadhwani.net/events/hamsadhwanis-36-th-festival-of-musi
 c-dance-drama-4/
SUMMARY:HAMSADHWANI’S 36 th FESTIVAL OF MUSIC\, DANCE & DRAMA
DESCRIPTION:Hamsadhwani will present a series of dramas dedicated to Nadaka
  Kavalar\nR.S.Manohar Birth Centenary between 18 th Jan to 31 st Jan\n\n6.
 45 pm\nKomal Theatres presents\nSIVASANKARI (Six Short Stories)\nDramatisa
 tion & Direction by Dharini Komal\n\nSponsor: CPCL Limited\nSupported by: 
 Super Auto Forge
CATEGORIES:Upcoming events
END:VEVENT
END:VCALENDAR