BEGIN:VCALENDAR
VERSION:2.0
PRODID:-//wp-events-plugin.com//6.5.2.2//EN
TZID:Asia/Kolkata
X-WR-TIMEZONE:Asia/Kolkata
BEGIN:VEVENT
UID:255@hamsadhwani.net
DTSTART:20260122T000000Z
DTEND:20260122T000000Z
DTSTAMP:20260116T172253Z
URL:https://www.hamsadhwani.net/events/hamsadhwanis-36-th-festival-of-musi
 c-dance-drama/
SUMMARY:HAMSADHWANI’S 36 th FESTIVAL OF MUSIC\, DANCE & DRAMA
DESCRIPTION:Hamsadhwani will present a series of dramas dedicated to Nadaka
  Kavalar\nR.S.Manohar Birth Centenary between 18 th Jan to 31 st Jan\n\n6.
 45 pm\nBrahma Fine Arts presents\nGNANATHANGAME\nDirection K.Prakash\n\nSp
 onsor: CPCL Limited\nSupported by: Super Auto Forge
CATEGORIES:Upcoming events
END:VEVENT
END:VCALENDAR