BEGIN:VCALENDAR
VERSION:2.0
PRODID:-//wp-events-plugin.com//6.5.2.2//EN
TZID:Asia/Kolkata
X-WR-TIMEZONE:Asia/Kolkata
BEGIN:VEVENT
UID:273@hamsadhwani.net
DTSTART:20260306T000000Z
DTEND:20260306T000000Z
DTSTAMP:20260303T134614Z
URL:https://www.hamsadhwani.net/events/hamsadhwanis-36th-festival-of-music
 -dance-drama-16/
SUMMARY:HAMSADHWANI’S 36th FESTIVAL OF MUSIC\, DANCE & DRAMA
DESCRIPTION:6.15 pm\nDelhi Sunderrajan - Vocal\nwith V V Ravi - Violin\nNey
 veli Narayanan - Mridangam\nK.V.Gopalakrishnan  - Kanjira
CATEGORIES:Upcoming events
END:VEVENT
END:VCALENDAR