BEGIN:VCALENDAR
VERSION:2.0
PRODID:-//wp-events-plugin.com//6.5.2.2//EN
TZID:Asia/Kolkata
X-WR-TIMEZONE:Asia/Kolkata
BEGIN:VEVENT
UID:274@hamsadhwani.net
DTSTART:20260307T000000Z
DTEND:20260307T000000Z
DTSTAMP:20260303T134940Z
URL:https://www.hamsadhwani.net/events/hamsadhwanis-36th-festival-of-music
 -dance-drama-17/
SUMMARY:HAMSADHWANI’S 36th FESTIVAL OF MUSIC\, DANCE & DRAMA
DESCRIPTION:On the eve of International Women's day\n\nMusical tribute to t
 he women Trinity & icons\nMS SUBBULAKSHMI\, DK PATTAMMAL \, M L VASANTHAKU
 MARI by\nSAINDHAVI\, VIDYA KALAYANARAMAN & VINAYA KARTHIK - Vocal\nwith\nR
 angapriya - Violin\nBharat Damodaran - Keyboard \nVenkatasubramaniam - Tab
 la \nShrihari  - Percussion\n\n 
CATEGORIES:Upcoming events
END:VEVENT
END:VCALENDAR