BEGIN:VCALENDAR
VERSION:2.0
PRODID:-//wp-events-plugin.com//6.5.2.2//EN
TZID:Asia/Kolkata
X-WR-TIMEZONE:Asia/Kolkata
BEGIN:VEVENT
UID:275@hamsadhwani.net
DTSTART:20260315T000000Z
DTEND:20260315T000000Z
DTSTAMP:20260303T135225Z
URL:https://www.hamsadhwani.net/events/hamsadhwanis-36th-festival-of-music
 -dance-drama-18/
SUMMARY:HAMSADHWANI’S 36th FESTIVAL OF MUSIC\, DANCE & DRAMA
DESCRIPTION:6.15 pm\nSandeep Narayan - Vocal\nwith H.N.Bhaskar  - Violin\nP
 adma Vibushan awardee Umayalpuram K.Sivaraman  - Mridangam\nAnirudh Athrey
 a  - Kanjira
CATEGORIES:Upcoming events
END:VEVENT
END:VCALENDAR