BEGIN:VCALENDAR
VERSION:2.0
PRODID:-//wp-events-plugin.com//6.5.2.2//EN
TZID:Asia/Kolkata
X-WR-TIMEZONE:Asia/Kolkata
BEGIN:VEVENT
UID:277@hamsadhwani.net
DTSTART:20260321T000000Z
DTEND:20260321T000000Z
DTSTAMP:20260303T135629Z
URL:https://www.hamsadhwani.net/events/hamsadhwanis-36th-festival-of-music
 -dance-drama-19/
SUMMARY:HAMSADHWANI’S 36th FESTIVAL OF MUSIC\, DANCE & DRAMA
DESCRIPTION:6.15 pm\nRAMAKRISHNAN MURTHY - Vocal\nwith L.Ramakrishnan  - Vi
 olin\nTrivandrum Balaji  - Mridangam\nS.Krishna - Ghatam
CATEGORIES:Upcoming events
END:VEVENT
END:VCALENDAR