BEGIN:VCALENDAR
VERSION:2.0
PRODID:-//wp-events-plugin.com//6.5.2.2//EN
TZID:Asia/Kolkata
X-WR-TIMEZONE:Asia/Kolkata
BEGIN:VEVENT
UID:259@hamsadhwani.net
DTSTART:20260126T000000Z
DTEND:20260126T000000Z
DTSTAMP:20260116T172531Z
URL:https://www.hamsadhwani.net/events/hamsadhwanis-36th-festival-of-music
 -dance-drama-2/
SUMMARY:HAMSADHWANI’S 36th FESTIVAL OF MUSIC\, DANCE & DRAMA
DESCRIPTION:Hamsadhwani will present a series of dramas dedicated to Nadaka
  Kavalar\nR.S.Manohar Birth Centenary between 18 th Jan to 31 st Jan\n\n6.
 45 pm\nUnited Visuals presents\nT.V.Varadharajhan's\nSANGEETHA MUMOORTHIGA
 L a musical play  on the Trinity\nby VSV & Music by Bombay Jayashri\n\nSp
 onsor: CPCL Limited\nSupported by: Super Auto Forge
CATEGORIES:Upcoming events
END:VEVENT
END:VCALENDAR