BEGIN:VCALENDAR
VERSION:2.0
PRODID:-//wp-events-plugin.com//6.5.2.2//EN
TZID:Asia/Kolkata
X-WR-TIMEZONE:Asia/Kolkata
BEGIN:VEVENT
UID:278@hamsadhwani.net
DTSTART:20260322T000000Z
DTEND:20260322T000000Z
DTSTAMP:20260303T140017Z
URL:https://www.hamsadhwani.net/events/hamsadhwanis-36th-festival-of-music
 -dance-drama-20/
SUMMARY:HAMSADHWANI’S 36th FESTIVAL OF MUSIC\, DANCE & DRAMA
DESCRIPTION:6.15 pm\nDr JAYANTHI KUMARESH - Veena\nwith Tumkur Ravishankar 
  - Mrudangam\nTrichy Krishnaswami - Ghatam\n
CATEGORIES:Upcoming events
END:VEVENT
END:VCALENDAR