BEGIN:VCALENDAR
VERSION:2.0
PRODID:-//wp-events-plugin.com//6.5.2.2//EN
TZID:Asia/Kolkata
X-WR-TIMEZONE:Asia/Kolkata
BEGIN:VEVENT
UID:279@hamsadhwani.net
DTSTART:20260327T000000Z
DTEND:20260327T000000Z
DTSTAMP:20260303T140552Z
URL:https://www.hamsadhwani.net/events/hamsadhwanis-36th-festival-of-music
 -dance-drama-21/
SUMMARY:HAMSADHWANI’S 36th FESTIVAL OF MUSIC\, DANCE & DRAMA
DESCRIPTION:6:15 pm\nSrirama navami special\nDiscourse by\nDr SUDHA SESHAYY
 AN
CATEGORIES:Upcoming events
END:VEVENT
END:VCALENDAR