BEGIN:VCALENDAR
VERSION:2.0
PRODID:-//wp-events-plugin.com//6.5.2.2//EN
TZID:Asia/Kolkata
X-WR-TIMEZONE:Asia/Kolkata
BEGIN:VEVENT
UID:280@hamsadhwani.net
DTSTART:20260328T000000Z
DTEND:20260328T000000Z
DTSTAMP:20260303T140348Z
URL:https://www.hamsadhwani.net/events/hamsadhwanis-36th-festival-of-music
 -dance-drama-22/
SUMMARY:HAMSADHWANI’S 36th FESTIVAL OF MUSIC\, DANCE & DRAMA
DESCRIPTION:6.15 pm\nAKKARAI SISTERS - S.Subhalakshmi & S.Sornalatha - Voca
 l\nwith Sruthi Sarathy  - Violin\nShree Sundarkumar  - Mridangam\nDr S.Kar
 thick  - Ghatam
CATEGORIES:Upcoming events
END:VEVENT
END:VCALENDAR