BEGIN:VCALENDAR
VERSION:2.0
PRODID:-//wp-events-plugin.com//6.5.2.2//EN
TZID:Asia/Kolkata
X-WR-TIMEZONE:Asia/Kolkata
BEGIN:VEVENT
UID:260@hamsadhwani.net
DTSTART:20260130T000000Z
DTEND:20260130T000000Z
DTSTAMP:20260116T171836Z
URL:https://www.hamsadhwani.net/events/hamsadhwanis-36th-festival-of-music
 -dance-drama-3/
SUMMARY:HAMSADHWANI’S 36th FESTIVAL OF MUSIC\, DANCE & DRAMA
DESCRIPTION:Hamsadhwani will present a series of dramas dedicated to Nadaka
  Kavalar\nR.S.Manohar Birth Centenary between 18 th Jan to 31 st Jan\n\n6.
 45 pm\nPMG Mayurapriya Creations Presents\nENNEDI PENNE\nby P.Muthukumaran
 \n\nSponsor: CPCL Limited\nSupported by: Super Auto Forge
CATEGORIES:Upcoming events
END:VEVENT
END:VCALENDAR