BEGIN:VCALENDAR
VERSION:2.0
PRODID:-//wp-events-plugin.com//6.5.2.2//EN
TZID:Asia/Kolkata
X-WR-TIMEZONE:Asia/Kolkata
BEGIN:VEVENT
UID:248@hamsadhwani.net
DTSTART:20251227T000000Z
DTEND:20251227T000000Z
DTSTAMP:20251223T155949Z
URL:https://www.hamsadhwani.net/events/nri-festival-2025-10/
SUMMARY:NRI Festival 2025
DESCRIPTION:5 pm\nSankrith Ramani (USA) - Vocal\nSurup Thathachar (SINGAPOR
 E) - Violin\nAashrith Aravind (USA) - Mrudangam\n\n6:45 pm\nSiddharth Kaus
 hik (USA) - Vocal\nAniruddhan Balakrishnan (Switzerland) - Violin\nAshwath
  Karunakaran (USA) - Mrudangam
CATEGORIES:Upcoming events
END:VEVENT
END:VCALENDAR