BEGIN:VCALENDAR
VERSION:2.0
PRODID:-//wp-events-plugin.com//6.5.2.2//EN
TZID:Asia/Kolkata
X-WR-TIMEZONE:Asia/Kolkata
BEGIN:VEVENT
UID:240@hamsadhwani.net
DTSTART:20251219T000000Z
DTEND:20251219T000000Z
DTSTAMP:20251201T153420Z
URL:https://www.hamsadhwani.net/events/nri-festival-2025-2/
SUMMARY:NRI Festival 2025
DESCRIPTION:5 pm\nAditi Subramanian (UK) - Vocal\nNivik Sanjay Bharadwaj (U
 SA) - Violin\nThiyagasamudram G. Siddhanth (Australia) - Mrudangam\n\n6:45
  pm\nHarini Anantharaman (USA) - Bharathanatyam
CATEGORIES:Upcoming events
END:VEVENT
END:VCALENDAR