BEGIN:VCALENDAR
VERSION:2.0
PRODID:-//wp-events-plugin.com//6.5.2.2//EN
TZID:Asia/Kolkata
X-WR-TIMEZONE:Asia/Kolkata
BEGIN:VEVENT
UID:242@hamsadhwani.net
DTSTART:20251221T000000Z
DTEND:20251221T000000Z
DTSTAMP:20251201T153938Z
URL:https://www.hamsadhwani.net/events/nri-festival-2025-4/
SUMMARY:NRI Festival 2025
DESCRIPTION:5 pm\nNidhi Hariharan (USA) - Mandolin\nArjun Ramachandran (USA
 ) - Mrudangam\nSainath - Ghatam\n\n6:45 pm\nMadhura Sriram (USA) - Vocal\n
 Prahlad Saravanapriyan (USA) - Violin\nHari Ramachandran (USA) - Mrudangam
CATEGORIES:Upcoming events
END:VEVENT
END:VCALENDAR