BEGIN:VCALENDAR
VERSION:2.0
PRODID:-//wp-events-plugin.com//6.5.2.2//EN
TZID:Asia/Kolkata
X-WR-TIMEZONE:Asia/Kolkata
BEGIN:VEVENT
UID:243@hamsadhwani.net
DTSTART:20251222T000000Z
DTEND:20251222T000000Z
DTSTAMP:20251201T154155Z
URL:https://www.hamsadhwani.net/events/nri-festival-2025-5/
SUMMARY:NRI Festival 2025
DESCRIPTION:5 pm\nVaishnavi Muddam (Australia) - Veena\nAditya Rajkumar (Ma
 laysia) - Mrudangam\nSrikrishna Prasannan (USA) - Ghatam\n\n6:45 pm\nDr. S
 hankar Ramani (USA) - Vocal\nJeysri Balaji (Germany) - Violin\nRohit Ashok
  (USA) - Mrudangam
CATEGORIES:Upcoming events
END:VEVENT
END:VCALENDAR