BEGIN:VCALENDAR
VERSION:2.0
PRODID:-//wp-events-plugin.com//6.5.2.2//EN
TZID:Asia/Kolkata
X-WR-TIMEZONE:Asia/Kolkata
BEGIN:VEVENT
UID:244@hamsadhwani.net
DTSTART:20251223T000000Z
DTEND:20251223T000000Z
DTSTAMP:20251201T154455Z
URL:https://www.hamsadhwani.net/events/nri-festival-2025-6/
SUMMARY:NRI Festival 2025
DESCRIPTION:5 pm\nSahana Aravind (USA) - Vocal\nAkshara Balaji (Switzerland
 ) - Violin\nVamsi Maganthi (USA) - Mrudangam\n\n6:45 pm\nRangan Brothers (
 Australia) - Vocal\nTejas Murali (USA) - Violin\nSaketh Praba (USA) - Mrud
 angam\nMukunda Sai - Kanjeera
CATEGORIES:Upcoming events
END:VEVENT
END:VCALENDAR