BEGIN:VCALENDAR
VERSION:2.0
PRODID:-//wp-events-plugin.com//6.5.2.2//EN
TZID:Asia/Kolkata
X-WR-TIMEZONE:Asia/Kolkata
BEGIN:VEVENT
UID:245@hamsadhwani.net
DTSTART:20251224T000000Z
DTEND:20251224T000000Z
DTSTAMP:20251223T162104Z
URL:https://www.hamsadhwani.net/events/nri-festival-2025-7/
SUMMARY:NRI Festival 2025
DESCRIPTION:5 pm\nAadhya Sridharan (USA) - Vocal\nVishnu Sreehari (USA)  - 
 Violin\nGovind Sriram (USA) - Mrudangam\n\n6:45 pm\nSMT NIRMALA RAJASEKHAR
  (USA) presents\n"THE TRADITIONAL AND THE NEW"\nShertallai Ananthakrishnan
  - Mrudangam\nD.Chandrajith - Table\nwith\nShruthi Rajasekar – Vocal and
  Keys\nSrivathsava N. – Flute\nHaripriya N. - Veena Support\nSaipranav M
 anikanan – Vocal & Kanjira\n\nRasikas requested to attend in large numbe
 rs and win special prizes.
CATEGORIES:Upcoming events
END:VEVENT
END:VCALENDAR