BEGIN:VCALENDAR
VERSION:2.0
PRODID:-//wp-events-plugin.com//6.5.2.2//EN
TZID:Asia/Kolkata
X-WR-TIMEZONE:Asia/Kolkata
BEGIN:VEVENT
UID:247@hamsadhwani.net
DTSTART:20251226T000000Z
DTEND:20251226T000000Z
DTSTAMP:20251201T155428Z
URL:https://www.hamsadhwani.net/events/nri-festival-2025-9/
SUMMARY:NRI Festival 2025
DESCRIPTION:5 pm\nPrameela Mandyan (USA) - Vocal\nNeela Jayakumar - Violin\
 nV R Jayakumar - Mrudangam\n\n6:45 pm\nTEMPLE OF MUSIC -SWARA YOGA\nYouth 
 ensemble \nCreated by Grammy Award  winner Violin maestro GANESH RAJAGOPAL
 AN  
CATEGORIES:Upcoming events
END:VEVENT
END:VCALENDAR