BEGIN:VCALENDAR
VERSION:2.0
PRODID:-//wp-events-plugin.com//6.5.2.2//EN
TZID:Asia/Kolkata
X-WR-TIMEZONE:Asia/Kolkata
BEGIN:VEVENT
UID:239@hamsadhwani.net
DTSTART:20251218T000000Z
DTEND:20251218T000000Z
DTSTAMP:20251206T061833Z
URL:https://www.hamsadhwani.net/events/nri-festival-2025/
SUMMARY:NRI Festival 2025
DESCRIPTION:6 pm\nINAUGURAL FUNCTION\n\n7 pm - Dance Feature\nThematic Bhar
 atanatyam & Kuchipudi presentation by SAILAJA & HER DISCIPLES OF SAILA SUD
 HA ACADEMY
CATEGORIES:Upcoming events
END:VEVENT
END:VCALENDAR