BEGIN:VCALENDAR
VERSION:2.0
PRODID:-//wp-events-plugin.com//6.5.2.2//EN
TZID:Asia/Kolkata
X-WR-TIMEZONE:Asia/Kolkata
BEGIN:VEVENT
UID:225@hamsadhwani.net
DTSTART:20250720T000000Z
DTEND:20250720T000000Z
DTSTAMP:20250715T105637Z
URL:https://www.hamsadhwani.net/events/pravah-with-sriji-sunday-sathsang/
SUMMARY:"Pravah with Sriji" : Sunday Sathsang
DESCRIPTION:6:15 PM\nNAAMASANKEERTHANAM\nby\nGovindapuram Shri SRINATH DAS 
 (son of Shri Vittaldas Maharaj) & party
CATEGORIES:Upcoming events
END:VEVENT
END:VCALENDAR