BEGIN:VCALENDAR
VERSION:2.0
PRODID:-//wp-events-plugin.com//6.5.2.2//EN
TZID:Asia/Kolkata
X-WR-TIMEZONE:Asia/Kolkata
BEGIN:VEVENT
UID:151@hamsadhwani.net
DTSTART:20240519T000000Z
DTEND:20240519T000000Z
DTSTAMP:20240514T090600Z
URL:https://www.hamsadhwani.net/events/shri-ariyakudi-music-foundation-ham
 sadhwani-tribute-to-ariyakudi/
SUMMARY:SHRI ARIYAKUDI MUSIC FOUNDATION & HAMSADHWANI TRIBUTE TO ARIYAKUDI
DESCRIPTION:SHRI ARIYAKUDI MUSIC FOUNDATION in association with HAMSADHWANI
  will celebrate Ariyakudi Ramanuja Iyengar's 134th Birth Anniversary on Su
 nday\, 19 th May at 6.00 pm with a musical tribute by:  R.ASHWATH NARAYANA
 N - Vocal  accompanied by  Akkarai Sornalatha - Violin\, \nPraveen Sparsh 
 - Mrudangam\, S.Krishna Ghatam \nChief Guest  Vidwan Shri ALLEPEY VENKATES
 AN \nat RAGA SUDHA HALL\, LUZ\, Mylapore \nALL ARE WELCOME
CATEGORIES:Upcoming events
END:VEVENT
END:VCALENDAR