BEGIN:VCALENDAR
VERSION:2.0
PRODID:-//wp-events-plugin.com//6.5.2.2//EN
TZID:Asia/Kolkata
X-WR-TIMEZONE:Asia/Kolkata
BEGIN:VEVENT
UID:149@hamsadhwani.net
DTSTART:20240413T000000Z
DTEND:20240413T000000Z
DTSTAMP:20240419T162657Z
URL:https://www.hamsadhwani.net/events/special-credit-concert-in-memory-of
 -sri-v-narayanan-chairman-c-u-b-ltd/
SUMMARY:Special Credit Concert in memory of Sri. V.Narayanan\, Chairman\, C
 .U.B. Ltd.
DESCRIPTION:6:15 pm\n\nB.VIJAYAGOPAL - FLUTE | \nMYLAI KARTHIKEYAN  – NAD
 HASWARAM |\nVijay Natesan – Mridangam |\nTrichy Krishnaswamy - Ghatam |\
 n\nSponsored by C.U.B Ltd. |\n\n@ Youth Hostel\, Adyar.
CATEGORIES:Programmes
END:VEVENT
END:VCALENDAR