BEGIN:VCALENDAR
VERSION:2.0
PRODID:-//wp-events-plugin.com//6.5.2.2//EN
TZID:Asia/Kolkata
X-WR-TIMEZONE:Asia/Kolkata
BEGIN:VEVENT
UID:192@hamsadhwani.net
DTSTART:20250126T000000Z
DTEND:20250126T000000Z
DTSTAMP:20250111T154500Z
URL:https://www.hamsadhwani.net/events/special-devotional-presentation/
SUMMARY:Special  Devotional Presentation
DESCRIPTION:6:30PM\nTHIRUPUGAZH renditions
CATEGORIES:Upcoming events
END:VEVENT
END:VCALENDAR