BEGIN:VCALENDAR
VERSION:2.0
PRODID:-//wp-events-plugin.com//6.5.2.2//EN
TZID:Asia/Kolkata
X-WR-TIMEZONE:Asia/Kolkata
BEGIN:VEVENT
UID:150@hamsadhwani.net
DTSTART:20240414T000000Z
DTEND:20240414T000000Z
DTSTAMP:20240419T163236Z
URL:https://www.hamsadhwani.net/events/tamizh-new-year-special/
SUMMARY:TAMIZH NEW YEAR SPECIAL
DESCRIPTION:6:15 pm\n\nAnahita & Apoorva - Vocal |\nM.R.Gopinath - Violin |
 \nPraveen Sparsh – Mridangam |\nNerkunam Shankar - Kanjeera |\n\nSponsor
  TNPL\n\n@ Youth Hostel\, Adyar.
CATEGORIES:Programmes
END:VEVENT
END:VCALENDAR