BEGIN:VCALENDAR
VERSION:2.0
PRODID:-//wp-events-plugin.com//6.5.2.2//EN
TZID:Asia/Kolkata
X-WR-TIMEZONE:Asia/Kolkata
BEGIN:VEVENT
UID:281@hamsadhwani.net
DTSTART:20260329T000000Z
DTEND:20260329T000000Z
DTSTAMP:20260303T140709Z
URL:https://www.hamsadhwani.net/events/to-be-announced-2/
SUMMARY:To be announced...
DESCRIPTION:
CATEGORIES:Upcoming events
END:VEVENT
END:VCALENDAR