BEGIN:VCALENDAR
VERSION:2.0
PRODID:-//wp-events-plugin.com//6.5.2.2//EN
TZID:Asia/Kolkata
X-WR-TIMEZONE:Asia/Kolkata
BEGIN:VEVENT
UID:276@hamsadhwani.net
DTSTART:20260320T000000Z
DTEND:20260320T000000Z
DTSTAMP:20260303T135252Z
URL:https://www.hamsadhwani.net/events/to-be-announced/
SUMMARY:To be announced...
DESCRIPTION:
CATEGORIES:Upcoming events
END:VEVENT
END:VCALENDAR