BEGIN:VCALENDAR
VERSION:2.0
PRODID:-//wp-events-plugin.com//6.5.2.2//EN
TZID:Asia/Kolkata
X-WR-TIMEZONE:Asia/Kolkata
BEGIN:VEVENT
UID:226@hamsadhwani.net
DTSTART:20250726T000000Z
DTEND:20250726T000000Z
DTSTAMP:20250715T105549Z
URL:https://www.hamsadhwani.net/events/young-talent-concert-series-2/
SUMMARY:Young Talent Concert Series
DESCRIPTION:6:15 PM\nSAMANVITHA SASIDHARAN - Vocal\nwith\nHaritha Narayanan
  - Violin\,\nSudarshan Srinivas - Mrudangam
CATEGORIES:Upcoming events
END:VEVENT
END:VCALENDAR