BEGIN:VCALENDAR
VERSION:2.0
PRODID:-//wp-events-plugin.com//6.5.2.2//EN
TZID:Asia/Kolkata
X-WR-TIMEZONE:Asia/Kolkata
BEGIN:VEVENT
UID:224@hamsadhwani.net
DTSTART:20250718T000000Z
DTEND:20250718T000000Z
DTSTAMP:20250715T105706Z
URL:https://www.hamsadhwani.net/events/young-talent-concert-series/
SUMMARY:Young Talent Concert Series
DESCRIPTION:6:15 PM\nSHAKTHI MURALIDHARAN - Vocal\nwith\nC.S.Chinmayi - Vio
 lin\nKaushik  Sridhar - Mrudangam\nHarikishore - Kanjeera
CATEGORIES:Upcoming events
END:VEVENT
END:VCALENDAR